BEGIN:VCALENDAR
VERSION:2.0
PRODID:-//Town of Hammonton - ECPv6.11.2//NONSGML v1.0//EN
CALSCALE:GREGORIAN
METHOD:PUBLISH
X-ORIGINAL-URL:https://townofhammonton.org
X-WR-CALDESC:Events for Town of Hammonton
REFRESH-INTERVAL;VALUE=DURATION:PT1H
X-Robots-Tag:noindex
X-PUBLISHED-TTL:PT1H
BEGIN:VTIMEZONE
TZID:America/New_York
BEGIN:DAYLIGHT
TZOFFSETFROM:-0500
TZOFFSETTO:-0400
TZNAME:EDT
DTSTART:20250309T070000
END:DAYLIGHT
BEGIN:STANDARD
TZOFFSETFROM:-0400
TZOFFSETTO:-0500
TZNAME:EST
DTSTART:20251102T060000
END:STANDARD
END:VTIMEZONE
BEGIN:VEVENT
DTSTART;TZID=America/New_York:20251004T140000
DTEND;TZID=America/New_York:20251004T190000
DTSTAMP:20260421T120711
CREATED:20251001T222823Z
LAST-MODIFIED:20251001T222908Z
UID:10004098-1759586400-1759604400@townofhammonton.org
SUMMARY:Hammonton High School Marching Band Competition
DESCRIPTION:Hammonton High School • Home • Marching Band Competition\nSaturday\, October 4th\, 2025 \nTickets: $10.00 \n\n2pm: Gates Open\n3pm: First Band Performs\n5:45pm: Hammonton Performance\n6:15pm: Awards
URL:https://townofhammonton.org/event/hammonton-h-s-marching-band-competition/
LOCATION:Hammonton High School\, 566 Old Forks Road\, Hammonton\, NJ\, 08037\, United States
CATEGORIES:Event
ORGANIZER;CN="Hammonton High School Band Program":MAILTO:hammontonbandboosters@gmail.com
END:VEVENT
END:VCALENDAR