BEGIN:VCALENDAR
VERSION:2.0
PRODID:-//Town of Hammonton - ECPv6.11.2//NONSGML v1.0//EN
CALSCALE:GREGORIAN
METHOD:PUBLISH
X-ORIGINAL-URL:https://townofhammonton.org
X-WR-CALDESC:Events for Town of Hammonton
REFRESH-INTERVAL;VALUE=DURATION:PT1H
X-Robots-Tag:noindex
X-PUBLISHED-TTL:PT1H
BEGIN:VTIMEZONE
TZID:America/New_York
BEGIN:DAYLIGHT
TZOFFSETFROM:-0500
TZOFFSETTO:-0400
TZNAME:EDT
DTSTART:20300310T070000
END:DAYLIGHT
BEGIN:STANDARD
TZOFFSETFROM:-0400
TZOFFSETTO:-0500
TZNAME:EST
DTSTART:20301103T060000
END:STANDARD
BEGIN:DAYLIGHT
TZOFFSETFROM:-0500
TZOFFSETTO:-0400
TZNAME:EDT
DTSTART:20310309T070000
END:DAYLIGHT
BEGIN:STANDARD
TZOFFSETFROM:-0400
TZOFFSETTO:-0500
TZNAME:EST
DTSTART:20311102T060000
END:STANDARD
END:VTIMEZONE
BEGIN:VEVENT
DTSTART;TZID=America/New_York:20300521T070000
DTEND;TZID=America/New_York:20300521T200000
DTSTAMP:20260425T163926
CREATED:20260421T220234Z
LAST-MODIFIED:20260421T220234Z
UID:10004355-1905577200-1905624000@townofhammonton.org
SUMMARY:Parks and Recreation Commission Meeting
DESCRIPTION:Parks & Recreation meetings are open to the public and take place on the 3rd Tuesday of each month at 7:00 p.m. Meetings are held at Hammonton Town Hall\, first floor council chambers\, 100 Central Ave.\, Hammonton\, NJ 08037. \nFor more information visit: townofhammonton.org/parks-recreation \nAdam Monacelli\nParks & Recreation Director\nPhone: 609-567-4300 Ext. 103\nEmail: amonacelli@townofhammonton.org\nAddress: Town Hall\, Clerk’s Office\, 3rd floor\n100 Central Ave.\, Hammonton\, NJ 08037 \n\nParks & Recreation Board Members \nLou Cappuccio\, Chairman\nSam Rodio\, Deputy Mayor\nPaul Ordille\nJames Borda\nJohn Iacovelli\nSam Rodio\, Jr.\nBill Parkhurst\nShawn McCloud\nRay Scipione\, Councilman\nJohn Scianni\nAlberta Eppler\, Secretary
URL:https://townofhammonton.org/event/parks-and-recreation-commission-meeting-2025-2-2/2030-05-21/
LOCATION:Hammonton Town Hall
CATEGORIES:Committee/Commission
ORGANIZER;CN="Hammonton Parks and Recreation":MAILTO:amonacelli@townofhammonton.org
END:VEVENT
BEGIN:VEVENT
DTSTART;TZID=America/New_York:20300618T070000
DTEND;TZID=America/New_York:20300618T200000
DTSTAMP:20260425T163926
CREATED:20260421T220234Z
LAST-MODIFIED:20260421T220234Z
UID:10004356-1907996400-1908043200@townofhammonton.org
SUMMARY:Parks and Recreation Commission Meeting
DESCRIPTION:Parks & Recreation meetings are open to the public and take place on the 3rd Tuesday of each month at 7:00 p.m. Meetings are held at Hammonton Town Hall\, first floor council chambers\, 100 Central Ave.\, Hammonton\, NJ 08037. \nFor more information visit: townofhammonton.org/parks-recreation \nAdam Monacelli\nParks & Recreation Director\nPhone: 609-567-4300 Ext. 103\nEmail: amonacelli@townofhammonton.org\nAddress: Town Hall\, Clerk’s Office\, 3rd floor\n100 Central Ave.\, Hammonton\, NJ 08037 \n\nParks & Recreation Board Members \nLou Cappuccio\, Chairman\nSam Rodio\, Deputy Mayor\nPaul Ordille\nJames Borda\nJohn Iacovelli\nSam Rodio\, Jr.\nBill Parkhurst\nShawn McCloud\nRay Scipione\, Councilman\nJohn Scianni\nAlberta Eppler\, Secretary
URL:https://townofhammonton.org/event/parks-and-recreation-commission-meeting-2025-2-2/2030-06-18/
LOCATION:Hammonton Town Hall
CATEGORIES:Committee/Commission
ORGANIZER;CN="Hammonton Parks and Recreation":MAILTO:amonacelli@townofhammonton.org
END:VEVENT
BEGIN:VEVENT
DTSTART;TZID=America/New_York:20300716T070000
DTEND;TZID=America/New_York:20300716T200000
DTSTAMP:20260425T163926
CREATED:20260421T220234Z
LAST-MODIFIED:20260421T220234Z
UID:10004357-1910415600-1910462400@townofhammonton.org
SUMMARY:Parks and Recreation Commission Meeting
DESCRIPTION:Parks & Recreation meetings are open to the public and take place on the 3rd Tuesday of each month at 7:00 p.m. Meetings are held at Hammonton Town Hall\, first floor council chambers\, 100 Central Ave.\, Hammonton\, NJ 08037. \nFor more information visit: townofhammonton.org/parks-recreation \nAdam Monacelli\nParks & Recreation Director\nPhone: 609-567-4300 Ext. 103\nEmail: amonacelli@townofhammonton.org\nAddress: Town Hall\, Clerk’s Office\, 3rd floor\n100 Central Ave.\, Hammonton\, NJ 08037 \n\nParks & Recreation Board Members \nLou Cappuccio\, Chairman\nSam Rodio\, Deputy Mayor\nPaul Ordille\nJames Borda\nJohn Iacovelli\nSam Rodio\, Jr.\nBill Parkhurst\nShawn McCloud\nRay Scipione\, Councilman\nJohn Scianni\nAlberta Eppler\, Secretary
URL:https://townofhammonton.org/event/parks-and-recreation-commission-meeting-2025-2-2/2030-07-16/
LOCATION:Hammonton Town Hall
CATEGORIES:Committee/Commission
ORGANIZER;CN="Hammonton Parks and Recreation":MAILTO:amonacelli@townofhammonton.org
END:VEVENT
BEGIN:VEVENT
DTSTART;TZID=America/New_York:20300820T070000
DTEND;TZID=America/New_York:20300820T200000
DTSTAMP:20260425T163926
CREATED:20260421T220234Z
LAST-MODIFIED:20260421T220234Z
UID:10004358-1913439600-1913486400@townofhammonton.org
SUMMARY:Parks and Recreation Commission Meeting
DESCRIPTION:Parks & Recreation meetings are open to the public and take place on the 3rd Tuesday of each month at 7:00 p.m. Meetings are held at Hammonton Town Hall\, first floor council chambers\, 100 Central Ave.\, Hammonton\, NJ 08037. \nFor more information visit: townofhammonton.org/parks-recreation \nAdam Monacelli\nParks & Recreation Director\nPhone: 609-567-4300 Ext. 103\nEmail: amonacelli@townofhammonton.org\nAddress: Town Hall\, Clerk’s Office\, 3rd floor\n100 Central Ave.\, Hammonton\, NJ 08037 \n\nParks & Recreation Board Members \nLou Cappuccio\, Chairman\nSam Rodio\, Deputy Mayor\nPaul Ordille\nJames Borda\nJohn Iacovelli\nSam Rodio\, Jr.\nBill Parkhurst\nShawn McCloud\nRay Scipione\, Councilman\nJohn Scianni\nAlberta Eppler\, Secretary
URL:https://townofhammonton.org/event/parks-and-recreation-commission-meeting-2025-2-2/2030-08-20/
LOCATION:Hammonton Town Hall
CATEGORIES:Committee/Commission
ORGANIZER;CN="Hammonton Parks and Recreation":MAILTO:amonacelli@townofhammonton.org
END:VEVENT
BEGIN:VEVENT
DTSTART;TZID=America/New_York:20300917T070000
DTEND;TZID=America/New_York:20300917T200000
DTSTAMP:20260425T163926
CREATED:20260421T220234Z
LAST-MODIFIED:20260421T220234Z
UID:10004359-1915858800-1915905600@townofhammonton.org
SUMMARY:Parks and Recreation Commission Meeting
DESCRIPTION:Parks & Recreation meetings are open to the public and take place on the 3rd Tuesday of each month at 7:00 p.m. Meetings are held at Hammonton Town Hall\, first floor council chambers\, 100 Central Ave.\, Hammonton\, NJ 08037. \nFor more information visit: townofhammonton.org/parks-recreation \nAdam Monacelli\nParks & Recreation Director\nPhone: 609-567-4300 Ext. 103\nEmail: amonacelli@townofhammonton.org\nAddress: Town Hall\, Clerk’s Office\, 3rd floor\n100 Central Ave.\, Hammonton\, NJ 08037 \n\nParks & Recreation Board Members \nLou Cappuccio\, Chairman\nSam Rodio\, Deputy Mayor\nPaul Ordille\nJames Borda\nJohn Iacovelli\nSam Rodio\, Jr.\nBill Parkhurst\nShawn McCloud\nRay Scipione\, Councilman\nJohn Scianni\nAlberta Eppler\, Secretary
URL:https://townofhammonton.org/event/parks-and-recreation-commission-meeting-2025-2-2/2030-09-17/
LOCATION:Hammonton Town Hall
CATEGORIES:Committee/Commission
ORGANIZER;CN="Hammonton Parks and Recreation":MAILTO:amonacelli@townofhammonton.org
END:VEVENT
BEGIN:VEVENT
DTSTART;TZID=America/New_York:20301015T070000
DTEND;TZID=America/New_York:20301015T200000
DTSTAMP:20260425T163926
CREATED:20260421T220234Z
LAST-MODIFIED:20260421T220234Z
UID:10004360-1918278000-1918324800@townofhammonton.org
SUMMARY:Parks and Recreation Commission Meeting
DESCRIPTION:Parks & Recreation meetings are open to the public and take place on the 3rd Tuesday of each month at 7:00 p.m. Meetings are held at Hammonton Town Hall\, first floor council chambers\, 100 Central Ave.\, Hammonton\, NJ 08037. \nFor more information visit: townofhammonton.org/parks-recreation \nAdam Monacelli\nParks & Recreation Director\nPhone: 609-567-4300 Ext. 103\nEmail: amonacelli@townofhammonton.org\nAddress: Town Hall\, Clerk’s Office\, 3rd floor\n100 Central Ave.\, Hammonton\, NJ 08037 \n\nParks & Recreation Board Members \nLou Cappuccio\, Chairman\nSam Rodio\, Deputy Mayor\nPaul Ordille\nJames Borda\nJohn Iacovelli\nSam Rodio\, Jr.\nBill Parkhurst\nShawn McCloud\nRay Scipione\, Councilman\nJohn Scianni\nAlberta Eppler\, Secretary
URL:https://townofhammonton.org/event/parks-and-recreation-commission-meeting-2025-2-2/2030-10-15/
LOCATION:Hammonton Town Hall
CATEGORIES:Committee/Commission
ORGANIZER;CN="Hammonton Parks and Recreation":MAILTO:amonacelli@townofhammonton.org
END:VEVENT
BEGIN:VEVENT
DTSTART;TZID=America/New_York:20301119T070000
DTEND;TZID=America/New_York:20301119T200000
DTSTAMP:20260425T163926
CREATED:20260421T220234Z
LAST-MODIFIED:20260421T220234Z
UID:10004361-1921302000-1921348800@townofhammonton.org
SUMMARY:Parks and Recreation Commission Meeting
DESCRIPTION:Parks & Recreation meetings are open to the public and take place on the 3rd Tuesday of each month at 7:00 p.m. Meetings are held at Hammonton Town Hall\, first floor council chambers\, 100 Central Ave.\, Hammonton\, NJ 08037. \nFor more information visit: townofhammonton.org/parks-recreation \nAdam Monacelli\nParks & Recreation Director\nPhone: 609-567-4300 Ext. 103\nEmail: amonacelli@townofhammonton.org\nAddress: Town Hall\, Clerk’s Office\, 3rd floor\n100 Central Ave.\, Hammonton\, NJ 08037 \n\nParks & Recreation Board Members \nLou Cappuccio\, Chairman\nSam Rodio\, Deputy Mayor\nPaul Ordille\nJames Borda\nJohn Iacovelli\nSam Rodio\, Jr.\nBill Parkhurst\nShawn McCloud\nRay Scipione\, Councilman\nJohn Scianni\nAlberta Eppler\, Secretary
URL:https://townofhammonton.org/event/parks-and-recreation-commission-meeting-2025-2-2/2030-11-19/
LOCATION:Hammonton Town Hall
CATEGORIES:Committee/Commission
ORGANIZER;CN="Hammonton Parks and Recreation":MAILTO:amonacelli@townofhammonton.org
END:VEVENT
BEGIN:VEVENT
DTSTART;TZID=America/New_York:20301217T070000
DTEND;TZID=America/New_York:20301217T200000
DTSTAMP:20260425T163926
CREATED:20260421T220234Z
LAST-MODIFIED:20260421T220234Z
UID:10004362-1923721200-1923768000@townofhammonton.org
SUMMARY:Parks and Recreation Commission Meeting
DESCRIPTION:Parks & Recreation meetings are open to the public and take place on the 3rd Tuesday of each month at 7:00 p.m. Meetings are held at Hammonton Town Hall\, first floor council chambers\, 100 Central Ave.\, Hammonton\, NJ 08037. \nFor more information visit: townofhammonton.org/parks-recreation \nAdam Monacelli\nParks & Recreation Director\nPhone: 609-567-4300 Ext. 103\nEmail: amonacelli@townofhammonton.org\nAddress: Town Hall\, Clerk’s Office\, 3rd floor\n100 Central Ave.\, Hammonton\, NJ 08037 \n\nParks & Recreation Board Members \nLou Cappuccio\, Chairman\nSam Rodio\, Deputy Mayor\nPaul Ordille\nJames Borda\nJohn Iacovelli\nSam Rodio\, Jr.\nBill Parkhurst\nShawn McCloud\nRay Scipione\, Councilman\nJohn Scianni\nAlberta Eppler\, Secretary
URL:https://townofhammonton.org/event/parks-and-recreation-commission-meeting-2025-2-2/2030-12-17/
LOCATION:Hammonton Town Hall
CATEGORIES:Committee/Commission
ORGANIZER;CN="Hammonton Parks and Recreation":MAILTO:amonacelli@townofhammonton.org
END:VEVENT
BEGIN:VEVENT
DTSTART;TZID=America/New_York:20310121T070000
DTEND;TZID=America/New_York:20310121T200000
DTSTAMP:20260425T163926
CREATED:20260421T220234Z
LAST-MODIFIED:20260421T220234Z
UID:10004662-1926745200-1926792000@townofhammonton.org
SUMMARY:Parks and Recreation Commission Meeting
DESCRIPTION:Parks & Recreation meetings are open to the public and take place on the 3rd Tuesday of each month at 7:00 p.m. Meetings are held at Hammonton Town Hall\, first floor council chambers\, 100 Central Ave.\, Hammonton\, NJ 08037. \nFor more information visit: townofhammonton.org/parks-recreation \nAdam Monacelli\nParks & Recreation Director\nPhone: 609-567-4300 Ext. 103\nEmail: amonacelli@townofhammonton.org\nAddress: Town Hall\, Clerk’s Office\, 3rd floor\n100 Central Ave.\, Hammonton\, NJ 08037 \n\nParks & Recreation Board Members \nLou Cappuccio\, Chairman\nSam Rodio\, Deputy Mayor\nPaul Ordille\nJames Borda\nJohn Iacovelli\nSam Rodio\, Jr.\nBill Parkhurst\nShawn McCloud\nRay Scipione\, Councilman\nJohn Scianni\nAlberta Eppler\, Secretary
URL:https://townofhammonton.org/event/parks-and-recreation-commission-meeting-2025-2-2/2031-01-21/
LOCATION:Hammonton Town Hall
CATEGORIES:Committee/Commission
ORGANIZER;CN="Hammonton Parks and Recreation":MAILTO:amonacelli@townofhammonton.org
END:VEVENT
BEGIN:VEVENT
DTSTART;TZID=America/New_York:20310218T070000
DTEND;TZID=America/New_York:20310218T200000
DTSTAMP:20260425T163926
CREATED:20260421T220234Z
LAST-MODIFIED:20260421T220234Z
UID:10004663-1929164400-1929211200@townofhammonton.org
SUMMARY:Parks and Recreation Commission Meeting
DESCRIPTION:Parks & Recreation meetings are open to the public and take place on the 3rd Tuesday of each month at 7:00 p.m. Meetings are held at Hammonton Town Hall\, first floor council chambers\, 100 Central Ave.\, Hammonton\, NJ 08037. \nFor more information visit: townofhammonton.org/parks-recreation \nAdam Monacelli\nParks & Recreation Director\nPhone: 609-567-4300 Ext. 103\nEmail: amonacelli@townofhammonton.org\nAddress: Town Hall\, Clerk’s Office\, 3rd floor\n100 Central Ave.\, Hammonton\, NJ 08037 \n\nParks & Recreation Board Members \nLou Cappuccio\, Chairman\nSam Rodio\, Deputy Mayor\nPaul Ordille\nJames Borda\nJohn Iacovelli\nSam Rodio\, Jr.\nBill Parkhurst\nShawn McCloud\nRay Scipione\, Councilman\nJohn Scianni\nAlberta Eppler\, Secretary
URL:https://townofhammonton.org/event/parks-and-recreation-commission-meeting-2025-2-2/2031-02-18/
LOCATION:Hammonton Town Hall
CATEGORIES:Committee/Commission
ORGANIZER;CN="Hammonton Parks and Recreation":MAILTO:amonacelli@townofhammonton.org
END:VEVENT
BEGIN:VEVENT
DTSTART;TZID=America/New_York:20310318T070000
DTEND;TZID=America/New_York:20310318T200000
DTSTAMP:20260425T163926
CREATED:20260421T220234Z
LAST-MODIFIED:20260421T220234Z
UID:10004664-1931583600-1931630400@townofhammonton.org
SUMMARY:Parks and Recreation Commission Meeting
DESCRIPTION:Parks & Recreation meetings are open to the public and take place on the 3rd Tuesday of each month at 7:00 p.m. Meetings are held at Hammonton Town Hall\, first floor council chambers\, 100 Central Ave.\, Hammonton\, NJ 08037. \nFor more information visit: townofhammonton.org/parks-recreation \nAdam Monacelli\nParks & Recreation Director\nPhone: 609-567-4300 Ext. 103\nEmail: amonacelli@townofhammonton.org\nAddress: Town Hall\, Clerk’s Office\, 3rd floor\n100 Central Ave.\, Hammonton\, NJ 08037 \n\nParks & Recreation Board Members \nLou Cappuccio\, Chairman\nSam Rodio\, Deputy Mayor\nPaul Ordille\nJames Borda\nJohn Iacovelli\nSam Rodio\, Jr.\nBill Parkhurst\nShawn McCloud\nRay Scipione\, Councilman\nJohn Scianni\nAlberta Eppler\, Secretary
URL:https://townofhammonton.org/event/parks-and-recreation-commission-meeting-2025-2-2/2031-03-18/
LOCATION:Hammonton Town Hall
CATEGORIES:Committee/Commission
ORGANIZER;CN="Hammonton Parks and Recreation":MAILTO:amonacelli@townofhammonton.org
END:VEVENT
BEGIN:VEVENT
DTSTART;TZID=America/New_York:20310415T070000
DTEND;TZID=America/New_York:20310415T200000
DTSTAMP:20260425T163926
CREATED:20260421T220234Z
LAST-MODIFIED:20260421T220234Z
UID:10004665-1934002800-1934049600@townofhammonton.org
SUMMARY:Parks and Recreation Commission Meeting
DESCRIPTION:Parks & Recreation meetings are open to the public and take place on the 3rd Tuesday of each month at 7:00 p.m. Meetings are held at Hammonton Town Hall\, first floor council chambers\, 100 Central Ave.\, Hammonton\, NJ 08037. \nFor more information visit: townofhammonton.org/parks-recreation \nAdam Monacelli\nParks & Recreation Director\nPhone: 609-567-4300 Ext. 103\nEmail: amonacelli@townofhammonton.org\nAddress: Town Hall\, Clerk’s Office\, 3rd floor\n100 Central Ave.\, Hammonton\, NJ 08037 \n\nParks & Recreation Board Members \nLou Cappuccio\, Chairman\nSam Rodio\, Deputy Mayor\nPaul Ordille\nJames Borda\nJohn Iacovelli\nSam Rodio\, Jr.\nBill Parkhurst\nShawn McCloud\nRay Scipione\, Councilman\nJohn Scianni\nAlberta Eppler\, Secretary
URL:https://townofhammonton.org/event/parks-and-recreation-commission-meeting-2025-2-2/2031-04-15/
LOCATION:Hammonton Town Hall
CATEGORIES:Committee/Commission
ORGANIZER;CN="Hammonton Parks and Recreation":MAILTO:amonacelli@townofhammonton.org
END:VEVENT
END:VCALENDAR