BEGIN:VCALENDAR
VERSION:2.0
PRODID:-//Town of Hammonton - ECPv6.11.2//NONSGML v1.0//EN
CALSCALE:GREGORIAN
METHOD:PUBLISH
X-WR-CALNAME:Town of Hammonton
X-ORIGINAL-URL:https://townofhammonton.org
X-WR-CALDESC:Events for Town of Hammonton
REFRESH-INTERVAL;VALUE=DURATION:PT1H
X-Robots-Tag:noindex
X-PUBLISHED-TTL:PT1H
BEGIN:VTIMEZONE
TZID:America/New_York
BEGIN:DAYLIGHT
TZOFFSETFROM:-0500
TZOFFSETTO:-0400
TZNAME:EDT
DTSTART:20240310T070000
END:DAYLIGHT
BEGIN:STANDARD
TZOFFSETFROM:-0400
TZOFFSETTO:-0500
TZNAME:EST
DTSTART:20241103T060000
END:STANDARD
BEGIN:DAYLIGHT
TZOFFSETFROM:-0500
TZOFFSETTO:-0400
TZNAME:EDT
DTSTART:20250309T070000
END:DAYLIGHT
BEGIN:STANDARD
TZOFFSETFROM:-0400
TZOFFSETTO:-0500
TZNAME:EST
DTSTART:20251102T060000
END:STANDARD
END:VTIMEZONE
BEGIN:VEVENT
DTSTART;TZID=America/New_York:20250206T100000
DTEND;TZID=America/New_York:20250206T120000
DTSTAMP:20260421T091200
CREATED:20240407T184130Z
LAST-MODIFIED:20250130T120115Z
UID:10001640-1738836000-1738843200@townofhammonton.org
SUMMARY:Hammonton Food Distribution: Hope Exists Foundation
DESCRIPTION:If you or someone you know is in need of food assistance\, please register here https://smpl.is/7sji7  before you arrive. Present code to a volunteer when you attend. Food distribution takes place every 1st Thursday of the month at 10:00 a.m. until supplies last\, rain or shine. \nVolunteers are always needed and can arrive at 8:30 a.m.\nLocation: Our Lady of Mt. Carmel Society\, 1 Mt. Carmel Lane (carnival grounds) Hammonton\, NJ 08037.
URL:https://townofhammonton.org/event/hammonton-community-food-distribution-hope-exists-foundation-inc/2025-02-06/
LOCATION:Mt. Carmel Carnival Grounds\, 3rd and French Streets\, Hammonton\, NJ\, 08037\, United States
CATEGORIES:Event
END:VEVENT
BEGIN:VEVENT
DTSTART;TZID=America/New_York:20250102T100000
DTEND;TZID=America/New_York:20250102T120000
DTSTAMP:20260421T091200
CREATED:20240407T184130Z
LAST-MODIFIED:20250130T120115Z
UID:10001639-1735812000-1735819200@townofhammonton.org
SUMMARY:Hammonton Food Distribution: Hope Exists Foundation
DESCRIPTION:If you or someone you know is in need of food assistance\, please register here https://smpl.is/7sji7  before you arrive. Present code to a volunteer when you attend. Food distribution takes place every 1st Thursday of the month at 10:00 a.m. until supplies last\, rain or shine. \nVolunteers are always needed and can arrive at 8:30 a.m.\nLocation: Our Lady of Mt. Carmel Society\, 1 Mt. Carmel Lane (carnival grounds) Hammonton\, NJ 08037.
URL:https://townofhammonton.org/event/hammonton-community-food-distribution-hope-exists-foundation-inc/2025-01-02/
LOCATION:Mt. Carmel Carnival Grounds\, 3rd and French Streets\, Hammonton\, NJ\, 08037\, United States
CATEGORIES:Event
END:VEVENT
BEGIN:VEVENT
DTSTART;TZID=America/New_York:20241205T100000
DTEND;TZID=America/New_York:20241205T120000
DTSTAMP:20260421T091200
CREATED:20240407T184130Z
LAST-MODIFIED:20250130T120115Z
UID:10001638-1733392800-1733400000@townofhammonton.org
SUMMARY:Hammonton Food Distribution: Hope Exists Foundation
DESCRIPTION:If you or someone you know is in need of food assistance\, please register here https://smpl.is/7sji7  before you arrive. Present code to a volunteer when you attend. Food distribution takes place every 1st Thursday of the month at 10:00 a.m. until supplies last\, rain or shine. \nVolunteers are always needed and can arrive at 8:30 a.m.\nLocation: Our Lady of Mt. Carmel Society\, 1 Mt. Carmel Lane (carnival grounds) Hammonton\, NJ 08037.
URL:https://townofhammonton.org/event/hammonton-community-food-distribution-hope-exists-foundation-inc/2024-12-05/
LOCATION:Mt. Carmel Carnival Grounds\, 3rd and French Streets\, Hammonton\, NJ\, 08037\, United States
CATEGORIES:Event
END:VEVENT
BEGIN:VEVENT
DTSTART;TZID=America/New_York:20241107T100000
DTEND;TZID=America/New_York:20241107T120000
DTSTAMP:20260421T091200
CREATED:20240407T184130Z
LAST-MODIFIED:20250130T120115Z
UID:10001637-1730973600-1730980800@townofhammonton.org
SUMMARY:Hammonton Food Distribution: Hope Exists Foundation
DESCRIPTION:If you or someone you know is in need of food assistance\, please register here https://smpl.is/7sji7  before you arrive. Present code to a volunteer when you attend. Food distribution takes place every 1st Thursday of the month at 10:00 a.m. until supplies last\, rain or shine. \nVolunteers are always needed and can arrive at 8:30 a.m.\nLocation: Our Lady of Mt. Carmel Society\, 1 Mt. Carmel Lane (carnival grounds) Hammonton\, NJ 08037.
URL:https://townofhammonton.org/event/hammonton-community-food-distribution-hope-exists-foundation-inc/2024-11-07/
LOCATION:Mt. Carmel Carnival Grounds\, 3rd and French Streets\, Hammonton\, NJ\, 08037\, United States
CATEGORIES:Event
END:VEVENT
BEGIN:VEVENT
DTSTART;TZID=America/New_York:20241003T100000
DTEND;TZID=America/New_York:20241003T120000
DTSTAMP:20260421T091200
CREATED:20240407T184130Z
LAST-MODIFIED:20250130T120115Z
UID:10001636-1727949600-1727956800@townofhammonton.org
SUMMARY:Hammonton Food Distribution: Hope Exists Foundation
DESCRIPTION:If you or someone you know is in need of food assistance\, please register here https://smpl.is/7sji7  before you arrive. Present code to a volunteer when you attend. Food distribution takes place every 1st Thursday of the month at 10:00 a.m. until supplies last\, rain or shine. \nVolunteers are always needed and can arrive at 8:30 a.m.\nLocation: Our Lady of Mt. Carmel Society\, 1 Mt. Carmel Lane (carnival grounds) Hammonton\, NJ 08037.
URL:https://townofhammonton.org/event/hammonton-community-food-distribution-hope-exists-foundation-inc/2024-10-03/
LOCATION:Mt. Carmel Carnival Grounds\, 3rd and French Streets\, Hammonton\, NJ\, 08037\, United States
CATEGORIES:Event
END:VEVENT
BEGIN:VEVENT
DTSTART;TZID=America/New_York:20240905T100000
DTEND;TZID=America/New_York:20240905T120000
DTSTAMP:20260421T091200
CREATED:20240407T184130Z
LAST-MODIFIED:20250130T120115Z
UID:10001635-1725530400-1725537600@townofhammonton.org
SUMMARY:Hammonton Food Distribution: Hope Exists Foundation
DESCRIPTION:If you or someone you know is in need of food assistance\, please register here https://smpl.is/7sji7  before you arrive. Present code to a volunteer when you attend. Food distribution takes place every 1st Thursday of the month at 10:00 a.m. until supplies last\, rain or shine. \nVolunteers are always needed and can arrive at 8:30 a.m.\nLocation: Our Lady of Mt. Carmel Society\, 1 Mt. Carmel Lane (carnival grounds) Hammonton\, NJ 08037.
URL:https://townofhammonton.org/event/hammonton-community-food-distribution-hope-exists-foundation-inc/2024-09-05/
LOCATION:Mt. Carmel Carnival Grounds\, 3rd and French Streets\, Hammonton\, NJ\, 08037\, United States
CATEGORIES:Event
END:VEVENT
BEGIN:VEVENT
DTSTART;TZID=America/New_York:20240801T100000
DTEND;TZID=America/New_York:20240801T120000
DTSTAMP:20260421T091200
CREATED:20240407T184130Z
LAST-MODIFIED:20250130T120115Z
UID:10001634-1722506400-1722513600@townofhammonton.org
SUMMARY:Hammonton Food Distribution: Hope Exists Foundation
DESCRIPTION:If you or someone you know is in need of food assistance\, please register here https://smpl.is/7sji7  before you arrive. Present code to a volunteer when you attend. Food distribution takes place every 1st Thursday of the month at 10:00 a.m. until supplies last\, rain or shine. \nVolunteers are always needed and can arrive at 8:30 a.m.\nLocation: Our Lady of Mt. Carmel Society\, 1 Mt. Carmel Lane (carnival grounds) Hammonton\, NJ 08037.
URL:https://townofhammonton.org/event/hammonton-community-food-distribution-hope-exists-foundation-inc/2024-08-01/
LOCATION:Mt. Carmel Carnival Grounds\, 3rd and French Streets\, Hammonton\, NJ\, 08037\, United States
CATEGORIES:Event
END:VEVENT
BEGIN:VEVENT
DTSTART;TZID=America/New_York:20240606T100000
DTEND;TZID=America/New_York:20240606T120000
DTSTAMP:20260421T091200
CREATED:20240407T184130Z
LAST-MODIFIED:20250130T120115Z
UID:10001632-1717668000-1717675200@townofhammonton.org
SUMMARY:Hammonton Food Distribution: Hope Exists Foundation
DESCRIPTION:If you or someone you know is in need of food assistance\, please register here https://smpl.is/7sji7  before you arrive. Present code to a volunteer when you attend. Food distribution takes place every 1st Thursday of the month at 10:00 a.m. until supplies last\, rain or shine. \nVolunteers are always needed and can arrive at 8:30 a.m.\nLocation: Our Lady of Mt. Carmel Society\, 1 Mt. Carmel Lane (carnival grounds) Hammonton\, NJ 08037.
URL:https://townofhammonton.org/event/hammonton-community-food-distribution-hope-exists-foundation-inc/2024-06-06/
LOCATION:Mt. Carmel Carnival Grounds\, 3rd and French Streets\, Hammonton\, NJ\, 08037\, United States
CATEGORIES:Event
END:VEVENT
BEGIN:VEVENT
DTSTART;TZID=America/New_York:20240502T100000
DTEND;TZID=America/New_York:20240502T120000
DTSTAMP:20260421T091200
CREATED:20240407T184130Z
LAST-MODIFIED:20250130T120115Z
UID:10001631-1714644000-1714651200@townofhammonton.org
SUMMARY:Hammonton Food Distribution: Hope Exists Foundation
DESCRIPTION:If you or someone you know is in need of food assistance\, please register here https://smpl.is/7sji7  before you arrive. Present code to a volunteer when you attend. Food distribution takes place every 1st Thursday of the month at 10:00 a.m. until supplies last\, rain or shine. \nVolunteers are always needed and can arrive at 8:30 a.m.\nLocation: Our Lady of Mt. Carmel Society\, 1 Mt. Carmel Lane (carnival grounds) Hammonton\, NJ 08037.
URL:https://townofhammonton.org/event/hammonton-community-food-distribution-hope-exists-foundation-inc/2024-05-02/
LOCATION:Mt. Carmel Carnival Grounds\, 3rd and French Streets\, Hammonton\, NJ\, 08037\, United States
CATEGORIES:Event
END:VEVENT
END:VCALENDAR