BEGIN:VCALENDAR
VERSION:2.0
PRODID:-//Town of Hammonton - ECPv6.11.2//NONSGML v1.0//EN
CALSCALE:GREGORIAN
METHOD:PUBLISH
X-ORIGINAL-URL:https://townofhammonton.org
X-WR-CALDESC:Events for Town of Hammonton
REFRESH-INTERVAL;VALUE=DURATION:PT1H
X-Robots-Tag:noindex
X-PUBLISHED-TTL:PT1H
BEGIN:VTIMEZONE
TZID:America/New_York
BEGIN:DAYLIGHT
TZOFFSETFROM:-0500
TZOFFSETTO:-0400
TZNAME:EDT
DTSTART:20230312T070000
END:DAYLIGHT
BEGIN:STANDARD
TZOFFSETFROM:-0400
TZOFFSETTO:-0500
TZNAME:EST
DTSTART:20231105T060000
END:STANDARD
BEGIN:DAYLIGHT
TZOFFSETFROM:-0500
TZOFFSETTO:-0400
TZNAME:EDT
DTSTART:20240310T070000
END:DAYLIGHT
BEGIN:STANDARD
TZOFFSETFROM:-0400
TZOFFSETTO:-0500
TZNAME:EST
DTSTART:20241103T060000
END:STANDARD
BEGIN:DAYLIGHT
TZOFFSETFROM:-0500
TZOFFSETTO:-0400
TZNAME:EDT
DTSTART:20250309T070000
END:DAYLIGHT
BEGIN:STANDARD
TZOFFSETFROM:-0400
TZOFFSETTO:-0500
TZNAME:EST
DTSTART:20251102T060000
END:STANDARD
END:VTIMEZONE
BEGIN:VEVENT
DTSTART;VALUE=DATE:20250714
DTEND;VALUE=DATE:20250720
DTSTAMP:20260420T235709
CREATED:20250614T171839Z
LAST-MODIFIED:20250614T172001Z
UID:10003186-1752451200-1752969599@townofhammonton.org
SUMMARY:Our Lady of Mt. Carmel Festival 150th Anniversary
DESCRIPTION:Our Lady of Mt. Carmel Festival 150th Anniversary\nLongest Running Italian Festival in the United States!\nJULY 14-19\, 2025\nFEAST DAY – JULY 16\nJuly 16th and 19th Fireworks At The CARNIVAL \nSunday\, July 13th:\nThe Eve of the 150th Anniversary Mt. Carmel Festival \nSpaghetti Dinner – 1pm to 7pm\n4pm “Running of the Sandwiches”\nSons of Italy • 427 N 3rd St.\, Hammonton \nDRONE SHOW & FIREWORKS:\n8:30 PM – HAMMONTON HIGH SCHOOL\n566 Old Forks Rd\, Hammonton\, NJ \nTHE REGION’S LARGEST DRONE SHOW!\nFeaturing 400 choreographed drones that tell the story of the festival in the sky narrated with music\, and background fireworks! Sit on the bleachers in the football stadium or watch from the car. A FREE community event presented by the Preservation of the OLMC Festival\, Inc. \nFeast Day is July 16th. Masses throughout the day at St. Joseph Church – St. Mary of Mount Carmel Parish: 8AM – 10AM (Italian) – Noon (Spanish) – 2PM (Society Mass & Crowning) – Last Mass is after the procession. Procession begins at 4pm from Third St. and French St. and will follow the traditional route through the streets of Hammonton. \nThe Italian Gardens at the Mt. Carmel Society Hall\n75 N. Liberty St.\, Hammonton\, NJ\nFood Stand • Beer Garden • LIVE Entertainment • Fireworks\nFood stand is open for lunch 11am to 1:30pm on weekdays & nightly at 5pm throughout the week.\nSee our Menu Online at www.MountCarmelSociety.org \nCARNIVAL OPENS AT 5:00 PM\nFREE ADMISSION to the CARNIVAL GROUNDS\n1 Mt. Carmel Lane\, Hammonton\, NJ \nWorld Class FREE Entertainment on the Main Stage!\nDJ & Live FREE Entertainment in the Beer Garden! – NO COVER CHARGE!!!\nDJ RALPH D’AMELIO BEGINS NIGHTLY AT 7PM ~ BANDS BEGIN AT 8PM \n \n \n  \n 
URL:https://townofhammonton.org/event/our-lady-of-mt-carmel-festival-150th-anniversary/
LOCATION:Mt. Carmel Carnival Grounds\, 3rd and French Streets\, Hammonton\, NJ\, 08037\, United States
CATEGORIES:Event,Our Lady of Mt. Carmel
ORGANIZER;CN="Our Lady of Mt. Carmel Society":MAILTO:OLMChammonton@gmail.com
END:VEVENT
BEGIN:VEVENT
DTSTART;TZID=America/New_York:20230711T170000
DTEND;TZID=America/New_York:20230716T220000
DTSTAMP:20260420T235709
CREATED:20230627T183705Z
LAST-MODIFIED:20230627T183705Z
UID:10001463-1689094800-1689544800@townofhammonton.org
SUMMARY:148th Our Lady of Mt. Carmel Festival
DESCRIPTION:
URL:https://townofhammonton.org/event/148th-our-lady-of-mt-carmel-festival/
LOCATION:Mt. Carmel Carnival Grounds\, 3rd and French Streets\, Hammonton\, NJ\, 08037\, United States
CATEGORIES:Our Lady of Mt. Carmel
ORGANIZER;CN="Our Lady of Mt. Carmel Society":MAILTO:OLMChammonton@gmail.com
END:VEVENT
END:VCALENDAR