BEGIN:VCALENDAR
VERSION:2.0
PRODID:-//Town of Hammonton - ECPv6.11.2//NONSGML v1.0//EN
CALSCALE:GREGORIAN
METHOD:PUBLISH
X-ORIGINAL-URL:https://townofhammonton.org
X-WR-CALDESC:Events for Town of Hammonton
REFRESH-INTERVAL;VALUE=DURATION:PT1H
X-Robots-Tag:noindex
X-PUBLISHED-TTL:PT1H
BEGIN:VTIMEZONE
TZID:America/New_York
BEGIN:DAYLIGHT
TZOFFSETFROM:-0500
TZOFFSETTO:-0400
TZNAME:EDT
DTSTART:20250309T070000
END:DAYLIGHT
BEGIN:STANDARD
TZOFFSETFROM:-0400
TZOFFSETTO:-0500
TZNAME:EST
DTSTART:20251102T060000
END:STANDARD
END:VTIMEZONE
BEGIN:VEVENT
DTSTART;TZID=America/New_York:20250913T110000
DTEND;TZID=America/New_York:20250913T160000
DTSTAMP:20260421T224111
CREATED:20250827T131757Z
LAST-MODIFIED:20250827T131757Z
UID:10004080-1757761200-1757779200@townofhammonton.org
SUMMARY:Downtown Hammonton Cornhole Tournament
DESCRIPTION:Downtown Hammonton Cornhole Tournament\n11 Lincoln St\, Hammonton\, NJ 08037\nWho’s got the best toss in town?It’s all going down Saturday\, September 13 in Downtown Hammonton — and you’re invited to toss\, eat\, and cheer your way through a day of epic fun!Teams of Two | Ages 13+$80 per team – Includes entry + swag bags for all registered playersRegister now at: downtownhammonton.com/cornhole202511 Lincoln Street\, Hammonton\, NJ \nRegistration at 11AM | Games start at 12PMCash Prizes!1st Place – $3002nd Place – $2003rd Place – $100DJ & GamesFood TrucksBeer Garden \nPresented by Cardboard Arena\, this MainStreet Hammonton Cornhole Tournament is your chance to show off your skills and soak up the best vibes in town. So grab your teammate and prove you’ve got the perfect toss! \n 
URL:https://townofhammonton.org/event/downtown-hammonton-cornhole-tournament/
LOCATION:11 Lincoln Street\, Hammonton\, NJ\, 11 Lincoln Street\, Hammonton\, 08037\, United States
CATEGORIES:Downtown Hammonton
END:VEVENT
END:VCALENDAR